BEGIN:VCALENDAR
VERSION:2.0
PRODID:-//Gettorfer Windmühlen- und Kulturverein e.V. - ECPv6.15.20//NONSGML v1.0//EN
CALSCALE:GREGORIAN
METHOD:PUBLISH
X-WR-CALNAME:Gettorfer Windmühlen- und Kulturverein e.V.
X-ORIGINAL-URL:https://www.windmuehle-gettorf.de
X-WR-CALDESC:Veranstaltungen für Gettorfer Windmühlen- und Kulturverein e.V.
REFRESH-INTERVAL;VALUE=DURATION:PT1H
X-Robots-Tag:noindex
X-PUBLISHED-TTL:PT1H
BEGIN:VTIMEZONE
TZID:Europe/Berlin
BEGIN:DAYLIGHT
TZOFFSETFROM:+0100
TZOFFSETTO:+0200
TZNAME:CEST
DTSTART:20240331T010000
END:DAYLIGHT
BEGIN:STANDARD
TZOFFSETFROM:+0200
TZOFFSETTO:+0100
TZNAME:CET
DTSTART:20241027T010000
END:STANDARD
BEGIN:DAYLIGHT
TZOFFSETFROM:+0100
TZOFFSETTO:+0200
TZNAME:CEST
DTSTART:20250330T010000
END:DAYLIGHT
BEGIN:STANDARD
TZOFFSETFROM:+0200
TZOFFSETTO:+0100
TZNAME:CET
DTSTART:20251026T010000
END:STANDARD
BEGIN:DAYLIGHT
TZOFFSETFROM:+0100
TZOFFSETTO:+0200
TZNAME:CEST
DTSTART:20260329T010000
END:DAYLIGHT
BEGIN:STANDARD
TZOFFSETFROM:+0200
TZOFFSETTO:+0100
TZNAME:CET
DTSTART:20261025T010000
END:STANDARD
END:VTIMEZONE
BEGIN:VEVENT
DTSTART;TZID=Europe/Berlin:20251002T140000
DTEND;TZID=Europe/Berlin:20251002T170000
DTSTAMP:20260419T140950
CREATED:20251012T170607Z
LAST-MODIFIED:20251012T170607Z
UID:3995-1759413600-1759424400@www.windmuehle-gettorf.de
SUMMARY:Heimatmuseum und Mühle (Archiv) geöffnet
DESCRIPTION:
URL:https://www.windmuehle-gettorf.de/event/heimatmuseum-und-muehle-archiv-geoeffnet-97/
LOCATION:Heimatmuseum Gettorf\, Mühlenstraße 19\, Gettorf\, Schleswig-Holstein\, 24214\, Deutschland
END:VEVENT
BEGIN:VEVENT
DTSTART;TZID=Europe/Berlin:20251009T140000
DTEND;TZID=Europe/Berlin:20251009T170000
DTSTAMP:20260419T140950
CREATED:20251012T170705Z
LAST-MODIFIED:20251012T170705Z
UID:3997-1760018400-1760029200@www.windmuehle-gettorf.de
SUMMARY:Heimatmuseum und Mühle (Archiv) geöffnet
DESCRIPTION:
URL:https://www.windmuehle-gettorf.de/event/heimatmuseum-und-muehle-archiv-geoeffnet-98/
LOCATION:Heimatmuseum Gettorf\, Mühlenstraße 19\, Gettorf\, Schleswig-Holstein\, 24214\, Deutschland
END:VEVENT
BEGIN:VEVENT
DTSTART;TZID=Europe/Berlin:20251013T190000
DTEND;TZID=Europe/Berlin:20251013T210000
DTSTAMP:20260419T140950
CREATED:20250827T094631Z
LAST-MODIFIED:20250827T094631Z
UID:3931-1760382000-1760389200@www.windmuehle-gettorf.de
SUMMARY:Filmvorführung 100 Jahre Gemeinde Gettorf (1876-1976)
DESCRIPTION:Aufgrund mehrfacher Nachfragen zeigen wir den Film erneut!\n\nIm September 1976 feierte die Gemeinde Gettorf ihr 100-jähriges\, selbständiges Bestehen. Aus diesem Anlass wurde eine Festwoche mit vielen Veranstaltungen gefeiert. Festgehalten wurden die Feierlichkeiten in einem Film\, den der Drogist Walter Ott drehte. Es ist ein beeindruckendes Zeitdokument entstanden\, das absolut sehenswert ist und viele Erinnerungen hervorruft.\n\nDer Film hat eine Länge von 1:30 Stunden.\nDer Eintritt zur Filmvorführung ist frei. Um eine Spende wird gebeten.\nAnmeldungen sind erforderlich unter Kurt.Arndt@outlook.de oder telefonisch unter 04346-8743.\n\nEs steht nur ein begrenztes Platzangebot zur Verfügung!
URL:https://www.windmuehle-gettorf.de/event/filmvorfuehrung-100-jahre-gemeinde-gettorf-1876-1976/
LOCATION:Mühle „Rosa“\, Mühlenstraße 19\, Gettorf\, 24214 Gettorf\, Deutschland
END:VEVENT
BEGIN:VEVENT
DTSTART;TZID=Europe/Berlin:20251016T140000
DTEND;TZID=Europe/Berlin:20251016T170000
DTSTAMP:20260419T140950
CREATED:20251012T170752Z
LAST-MODIFIED:20251012T170752Z
UID:3999-1760623200-1760634000@www.windmuehle-gettorf.de
SUMMARY:Heimatmuseum und Mühle (Archiv) geöffnet
DESCRIPTION:
URL:https://www.windmuehle-gettorf.de/event/heimatmuseum-und-muehle-archiv-geoeffnet-99/
LOCATION:Heimatmuseum Gettorf\, Mühlenstraße 19\, Gettorf\, Schleswig-Holstein\, 24214\, Deutschland
END:VEVENT
BEGIN:VEVENT
DTSTART;TZID=Europe/Berlin:20251021T170000
DTEND;TZID=Europe/Berlin:20251021T183000
DTSTAMP:20260419T140950
CREATED:20250916T064603Z
LAST-MODIFIED:20250916T064603Z
UID:3958-1761066000-1761071400@www.windmuehle-gettorf.de
SUMMARY:Sitzung des Vorstandes
DESCRIPTION:
URL:https://www.windmuehle-gettorf.de/event/sitzung-des-vorstandes-15/
LOCATION:Heimatmuseum Gettorf\, Mühlenstraße 19\, Gettorf\, Schleswig-Holstein\, 24214\, Deutschland
END:VEVENT
BEGIN:VEVENT
DTSTART;TZID=Europe/Berlin:20251023T140000
DTEND;TZID=Europe/Berlin:20251023T170000
DTSTAMP:20260419T140950
CREATED:20251012T170843Z
LAST-MODIFIED:20251012T170843Z
UID:4001-1761228000-1761238800@www.windmuehle-gettorf.de
SUMMARY:Heimatmuseum und Mühle (Archiv) geöffnet
DESCRIPTION:
URL:https://www.windmuehle-gettorf.de/event/heimatmuseum-und-muehle-archiv-geoeffnet-100/
LOCATION:Heimatmuseum Gettorf\, Mühlenstraße 19\, Gettorf\, Schleswig-Holstein\, 24214\, Deutschland
END:VEVENT
BEGIN:VEVENT
DTSTART;TZID=Europe/Berlin:20251023T153000
DTEND;TZID=Europe/Berlin:20251023T173000
DTSTAMP:20260419T140950
CREATED:20250726T071200Z
LAST-MODIFIED:20250726T071503Z
UID:3897-1761233400-1761240600@www.windmuehle-gettorf.de
SUMMARY:Besichtigung des Herrenhauses Wulfshagenerhütten
DESCRIPTION:Zum o. a. Termin besichtigen wir das Herrenhaus in Wulfshagenerhütten. Der 1. Vorsitzende des Basisgemeinde\, Herr Jens Oliva\, wird die Führung übernehmen\, einen Vortrag über die Geschichte des Hauses halten und einen Film zeigen. Sofern Bedarf vorhanden ist\, können wir die Tischlerei besichtigen.\nDie Besichtigung ist kostenlos\, um eine Hutspende wird gebeten. Treffpunkt wäre am Besichtigungstag um 15:15 Uhr am Herrenhaus.\nAnmeldungen bitte per Mail an Kurt.Arndt@outlook.de oder per Telefon unter 04346-8743.
URL:https://www.windmuehle-gettorf.de/event/besichtigung-des-herrenhauses-wulfshagenerhuetten/
LOCATION:Herrenhaus Wulfshagenerhütten\, Zum Wohld 4\, Wulfshagenerhütten\, Schleswig-Holstein\, 24214
END:VEVENT
BEGIN:VEVENT
DTSTART;TZID=Europe/Berlin:20251029T153000
DTEND;TZID=Europe/Berlin:20251029T170000
DTSTAMP:20260419T140950
CREATED:20250817T072436Z
LAST-MODIFIED:20250817T072738Z
UID:3914-1761751800-1761757200@www.windmuehle-gettorf.de
SUMMARY:Filmvorführung in der Seniorenwohnanlage Am Park
DESCRIPTION:Für die Bewohner/innen der Seniorenwohnanlage zeigen wir den Film „100 Jahre Gemeinde Gettorf“\, aus dem Jahr 1976\, den der Drogist Walter Ott drehte.
URL:https://www.windmuehle-gettorf.de/event/filmvorfuehrung-in-der-seniorenwohnanlage-am-park/
LOCATION:Gettorfer Seniorenwohnanlage Am Park\, Hainweg 14\, Gettorf\, 24214
END:VEVENT
BEGIN:VEVENT
DTSTART;TZID=Europe/Berlin:20251030T140000
DTEND;TZID=Europe/Berlin:20251030T170000
DTSTAMP:20260419T140950
CREATED:20251012T170933Z
LAST-MODIFIED:20251012T170933Z
UID:4003-1761832800-1761843600@www.windmuehle-gettorf.de
SUMMARY:Heimatmuseum und Mühle (Archiv) geöffnet
DESCRIPTION:
URL:https://www.windmuehle-gettorf.de/event/heimatmuseum-und-muehle-archiv-geoeffnet-101/
LOCATION:Heimatmuseum Gettorf\, Mühlenstraße 19\, Gettorf\, Schleswig-Holstein\, 24214\, Deutschland
END:VEVENT
END:VCALENDAR