BEGIN:VCALENDAR
VERSION:2.0
PRODID:-//Gettorfer Windmühlen- und Kulturverein e.V. - ECPv6.15.20//NONSGML v1.0//EN
CALSCALE:GREGORIAN
METHOD:PUBLISH
X-ORIGINAL-URL:https://www.windmuehle-gettorf.de
X-WR-CALDESC:Veranstaltungen für Gettorfer Windmühlen- und Kulturverein e.V.
REFRESH-INTERVAL;VALUE=DURATION:PT1H
X-Robots-Tag:noindex
X-PUBLISHED-TTL:PT1H
BEGIN:VTIMEZONE
TZID:Europe/Berlin
BEGIN:DAYLIGHT
TZOFFSETFROM:+0100
TZOFFSETTO:+0200
TZNAME:CEST
DTSTART:20240331T010000
END:DAYLIGHT
BEGIN:STANDARD
TZOFFSETFROM:+0200
TZOFFSETTO:+0100
TZNAME:CET
DTSTART:20241027T010000
END:STANDARD
BEGIN:DAYLIGHT
TZOFFSETFROM:+0100
TZOFFSETTO:+0200
TZNAME:CEST
DTSTART:20250330T010000
END:DAYLIGHT
BEGIN:STANDARD
TZOFFSETFROM:+0200
TZOFFSETTO:+0100
TZNAME:CET
DTSTART:20251026T010000
END:STANDARD
BEGIN:DAYLIGHT
TZOFFSETFROM:+0100
TZOFFSETTO:+0200
TZNAME:CEST
DTSTART:20260329T010000
END:DAYLIGHT
BEGIN:STANDARD
TZOFFSETFROM:+0200
TZOFFSETTO:+0100
TZNAME:CET
DTSTART:20261025T010000
END:STANDARD
END:VTIMEZONE
BEGIN:VEVENT
DTSTART;TZID=Europe/Berlin:20250320T140000
DTEND;TZID=Europe/Berlin:20250320T170000
DTSTAMP:20260419T173318
CREATED:20250318T004911Z
LAST-MODIFIED:20250318T004911Z
UID:3638-1742479200-1742490000@www.windmuehle-gettorf.de
SUMMARY:Heimatmuseum und Mühle (Archiv) geöffnet
DESCRIPTION:
URL:https://www.windmuehle-gettorf.de/event/heimatmuseum-und-muehle-archiv-geoeffnet-71/
LOCATION:Heimatmuseum Gettorf\, Mühlenstraße 19\, Gettorf\, Schleswig-Holstein\, 24214\, Deutschland
END:VEVENT
BEGIN:VEVENT
DTSTART;TZID=Europe/Berlin:20250324T190000
DTEND;TZID=Europe/Berlin:20250324T203000
DTSTAMP:20260419T173318
CREATED:20250318T010711Z
LAST-MODIFIED:20250318T010711Z
UID:3658-1742842800-1742848200@www.windmuehle-gettorf.de
SUMMARY:Lichtbildervortrag - Historisches Wandern in Gettorf
DESCRIPTION:Auf Initiative unseres Vereins können seit 2012 20 historische Punkte in Gettorf besichtigt werden. Die mögliche Wanderung steht unter dem Motto „Historisches Wandern in Gettorf – Auf den Spuren der Zeit“.Wer die Wanderung nicht alleine machen möchte\, kann an geführten Wanderungen unseres Vereins teilnehmen\, die 3 – 4 mal im Jahr durchgeführt werden. Zu den historischen Punkten (Häuser\, Denkmäler\, Anlagen) gibt es entspechende Erläuterungen vor Ort.\n\nZusätzlich bieten wir einen Lichtbildervortrag dieser Wanderung an\, ebenfalls mit entsprechenden Erläuterungen.Der Eintritt ist frei\, um eine Spende wird gebeten.\nAnmeldungen erwünscht unter: Kurt.Arndt@outlook.de oder Tel. 04346-8743.
URL:https://www.windmuehle-gettorf.de/event/lichtbildervortrag-historisches-wandern-in-gettorf/
LOCATION:Mühle „Rosa“\, Mühlenstraße 19\, Gettorf\, 24214 Gettorf\, Deutschland
END:VEVENT
BEGIN:VEVENT
DTSTART;TZID=Europe/Berlin:20250327T140000
DTEND;TZID=Europe/Berlin:20250327T170000
DTSTAMP:20260419T173318
CREATED:20250318T005138Z
LAST-MODIFIED:20250318T005138Z
UID:3641-1743084000-1743094800@www.windmuehle-gettorf.de
SUMMARY:Heimatmuseum und Mühle (Archiv) geöffnet
DESCRIPTION:
URL:https://www.windmuehle-gettorf.de/event/heimatmuseum-und-muehle-archiv-geoeffnet-72/
LOCATION:Heimatmuseum Gettorf\, Mühlenstraße 19\, Gettorf\, Schleswig-Holstein\, 24214\, Deutschland
END:VEVENT
END:VCALENDAR