BEGIN:VCALENDAR
VERSION:2.0
PRODID:-//Gettorfer Windmühlen- und Kulturverein e.V. - ECPv6.15.20//NONSGML v1.0//EN
CALSCALE:GREGORIAN
METHOD:PUBLISH
X-ORIGINAL-URL:https://www.windmuehle-gettorf.de
X-WR-CALDESC:Veranstaltungen für Gettorfer Windmühlen- und Kulturverein e.V.
REFRESH-INTERVAL;VALUE=DURATION:PT1H
X-Robots-Tag:noindex
X-PUBLISHED-TTL:PT1H
BEGIN:VTIMEZONE
TZID:Europe/Berlin
BEGIN:DAYLIGHT
TZOFFSETFROM:+0100
TZOFFSETTO:+0200
TZNAME:CEST
DTSTART:20240331T010000
END:DAYLIGHT
BEGIN:STANDARD
TZOFFSETFROM:+0200
TZOFFSETTO:+0100
TZNAME:CET
DTSTART:20241027T010000
END:STANDARD
BEGIN:DAYLIGHT
TZOFFSETFROM:+0100
TZOFFSETTO:+0200
TZNAME:CEST
DTSTART:20250330T010000
END:DAYLIGHT
BEGIN:STANDARD
TZOFFSETFROM:+0200
TZOFFSETTO:+0100
TZNAME:CET
DTSTART:20251026T010000
END:STANDARD
BEGIN:DAYLIGHT
TZOFFSETFROM:+0100
TZOFFSETTO:+0200
TZNAME:CEST
DTSTART:20260329T010000
END:DAYLIGHT
BEGIN:STANDARD
TZOFFSETFROM:+0200
TZOFFSETTO:+0100
TZNAME:CET
DTSTART:20261025T010000
END:STANDARD
END:VTIMEZONE
BEGIN:VEVENT
DTSTART;TZID=Europe/Berlin:20250205T190000
DTEND;TZID=Europe/Berlin:20250205T210000
DTSTAMP:20260419T191151
CREATED:20241122T080501Z
LAST-MODIFIED:20241220T133438Z
UID:3560-1738782000-1738789200@www.windmuehle-gettorf.de
SUMMARY:Filmvorführung - 100 Jahre Gemeinde Gettorf
DESCRIPTION:Im Jahr 1976 feierte die Gemeinde Gettorf ihr 100-jähriges\, selbständiges Bestehen. Im September 1976 wurde aus diesem Anlass eine Festwoche mit vielen Veranstaltungen gefeiert. Festgehalten wurden die Feierlichkeiten in einem Film\, den der Drogist Walter Ott drehte. Es ist ein beeindruckendes Zeitdokument entstanden\, das absolut sehenswert ist und viele Erinnerungen hervorruft. \n \nDer Film hat eine Länge von 1:30 Stunden. Der Eintritt zur Filmvorführung ist frei. Um eine Spende wird gebeten. Anmeldungen sind wünschenswert und können unter Kurt.Arndt@outlook.de oder telefonisch unter 04346-8743 erfolgen. Es steht nur ein begrenztes Platzangebot zur Verfügung!
URL:https://www.windmuehle-gettorf.de/event/filmvorfuehrung-100-jahre-gemeinde-gettorf/
LOCATION:Mühle „Rosa“\, Mühlenstraße 19\, Gettorf\, 24214 Gettorf\, Deutschland
END:VEVENT
BEGIN:VEVENT
DTSTART;TZID=Europe/Berlin:20250214T180000
DTEND;TZID=Europe/Berlin:20250214T210000
DTSTAMP:20260419T191151
CREATED:20241114T182024Z
LAST-MODIFIED:20241114T182220Z
UID:3533-1739556000-1739566800@www.windmuehle-gettorf.de
SUMMARY:Gemeinsames Grünkohlessen für Vereinsmitglieder
DESCRIPTION:Liebe Vereinsmitglieder\, \nwir bieten dieses Jahr zum o. a. Termin ein gemeinsames Grünkohlessen für alle Vereinsmitglieder und deren Partnerinnen und Partner an. Für uns ist im Landhaus Hammerich in Osdorf die Diele reserviert. \nDer Preis für das Essen beträgt 21\,50 €/pro Person. Sollte jemand keinen Grünkohl essen wollen\, sind Auswahlgerichte möglich. Dann Bescheid geben. \n\nIch bitte um Nachricht bis spätestens 15.Januar 2025\, wer dabeisein möchte. Die Anmeldung kann über diese Einladung erfolgen oder auch per Mail an Kurt.Arndt@outlook.de bzw. telefonisch unter 04346-8743. \nViele Grüße\nKurt Arndt \n  \n\n\n\n\n\n 
URL:https://www.windmuehle-gettorf.de/event/gemeinsames-gruenkohlessen-fuer-vereinsmitglieder/
LOCATION:Landhaus Hammerich\, Hauptstraße\, Osdorf\, 24251
END:VEVENT
BEGIN:VEVENT
DTSTART;TZID=Europe/Berlin:20250225T190000
DTEND;TZID=Europe/Berlin:20250225T203000
DTSTAMP:20260419T191151
CREATED:20241016T060038Z
LAST-MODIFIED:20241016T060038Z
UID:3469-1740510000-1740515400@www.windmuehle-gettorf.de
SUMMARY:Jahreshauptversammlung
DESCRIPTION:Die Einladung mit der Tagesordnung wird fristgerecht zugesandt.
URL:https://www.windmuehle-gettorf.de/event/jahreshauptversammlung/
LOCATION:Mühle „Rosa“\, Mühlenstraße 19\, Gettorf\, 24214 Gettorf\, Deutschland
END:VEVENT
END:VCALENDAR