BEGIN:VCALENDAR
VERSION:2.0
PRODID:-//Gettorfer Windmühlen- und Kulturverein e.V. - ECPv6.15.20//NONSGML v1.0//EN
CALSCALE:GREGORIAN
METHOD:PUBLISH
X-ORIGINAL-URL:https://www.windmuehle-gettorf.de
X-WR-CALDESC:Veranstaltungen für Gettorfer Windmühlen- und Kulturverein e.V.
REFRESH-INTERVAL;VALUE=DURATION:PT1H
X-Robots-Tag:noindex
X-PUBLISHED-TTL:PT1H
BEGIN:VTIMEZONE
TZID:Europe/Berlin
BEGIN:DAYLIGHT
TZOFFSETFROM:+0100
TZOFFSETTO:+0200
TZNAME:CEST
DTSTART:20230326T010000
END:DAYLIGHT
BEGIN:STANDARD
TZOFFSETFROM:+0200
TZOFFSETTO:+0100
TZNAME:CET
DTSTART:20231029T010000
END:STANDARD
BEGIN:DAYLIGHT
TZOFFSETFROM:+0100
TZOFFSETTO:+0200
TZNAME:CEST
DTSTART:20240331T010000
END:DAYLIGHT
BEGIN:STANDARD
TZOFFSETFROM:+0200
TZOFFSETTO:+0100
TZNAME:CET
DTSTART:20241027T010000
END:STANDARD
BEGIN:DAYLIGHT
TZOFFSETFROM:+0100
TZOFFSETTO:+0200
TZNAME:CEST
DTSTART:20250330T010000
END:DAYLIGHT
BEGIN:STANDARD
TZOFFSETFROM:+0200
TZOFFSETTO:+0100
TZNAME:CET
DTSTART:20251026T010000
END:STANDARD
END:VTIMEZONE
BEGIN:VEVENT
DTSTART;TZID=Europe/Berlin:20241104T190000
DTEND;TZID=Europe/Berlin:20241104T210000
DTSTAMP:20260420T012147
CREATED:20240214T105004Z
LAST-MODIFIED:20241025T024910Z
UID:3008-1730746800-1730754000@www.windmuehle-gettorf.de
SUMMARY:Heimatkundlicher Vortrag von Dr. phil. Deert Lafrenz
DESCRIPTION:Dr. Lafrenz hält einen Vortrag zum Thema „Frauen in den Schlössern und Herrenhäusern in Schleswig-Holstein.“\nDr. Lafrenz war Referent am Landesamt für Denkmalpflege. \nDer Eintritt ist frei\, um eine Spende wird gebeten. \n  \n 
URL:https://www.windmuehle-gettorf.de/event/heimatkundlicher-vortrag-von-dr-phil-deert-lafrenz/
LOCATION:Mühle „Rosa“\, Mühlenstraße 19\, Gettorf\, 24214 Gettorf\, Deutschland
END:VEVENT
BEGIN:VEVENT
DTSTART;TZID=Europe/Berlin:20241107T140000
DTEND;TZID=Europe/Berlin:20241107T170000
DTSTAMP:20260420T012147
CREATED:20241006T040119Z
LAST-MODIFIED:20241006T040119Z
UID:3439-1730988000-1730998800@www.windmuehle-gettorf.de
SUMMARY:Heimatmuseum und Mühle (Archiv) geöffnet
DESCRIPTION:
URL:https://www.windmuehle-gettorf.de/event/heimatmuseum-und-muehle-archiv-geoeffnet-61/
LOCATION:Heimatmuseum Gettorf\, Mühlenstraße 19\, Gettorf\, Schleswig-Holstein\, 24214\, Deutschland
END:VEVENT
BEGIN:VEVENT
DTSTART;TZID=Europe/Berlin:20241112T170000
DTEND;TZID=Europe/Berlin:20241112T183000
DTSTAMP:20260420T012147
CREATED:20241101T141346Z
LAST-MODIFIED:20241101T141346Z
UID:3503-1731430800-1731436200@www.windmuehle-gettorf.de
SUMMARY:Sitzung des Vorstandes
DESCRIPTION:
URL:https://www.windmuehle-gettorf.de/event/sitzung-des-vorstandes-13/
LOCATION:Heimatmuseum Gettorf\, Mühlenstraße 19\, Gettorf\, Schleswig-Holstein\, 24214\, Deutschland
END:VEVENT
BEGIN:VEVENT
DTSTART;TZID=Europe/Berlin:20241114T140000
DTEND;TZID=Europe/Berlin:20241114T170000
DTSTAMP:20260420T012147
CREATED:20241006T040158Z
LAST-MODIFIED:20241006T040158Z
UID:3441-1731592800-1731603600@www.windmuehle-gettorf.de
SUMMARY:Heimatmuseum und Mühle (Archiv) geöffnet
DESCRIPTION:
URL:https://www.windmuehle-gettorf.de/event/heimatmuseum-und-muehle-archiv-geoeffnet-62/
LOCATION:Heimatmuseum Gettorf\, Mühlenstraße 19\, Gettorf\, Schleswig-Holstein\, 24214\, Deutschland
END:VEVENT
BEGIN:VEVENT
DTSTART;TZID=Europe/Berlin:20241118T190000
DTEND;TZID=Europe/Berlin:20241118T203000
DTSTAMP:20260420T012147
CREATED:20240328T094819Z
LAST-MODIFIED:20240328T095824Z
UID:3158-1731956400-1731961800@www.windmuehle-gettorf.de
SUMMARY:Vortrag - Die Finanzen der St.- Jürgen-Kirche - Ein Kircheninventar aus dem Jahre 1769
DESCRIPTION:Der Historiker Prof. Dr. Peter Wulf hält einen Vortrag über die Finanzen der St.-Jürgen Kirche in Gettorf aus dem 18. Jahrhundert. Grundlage ist u.a. ein Kircheninventar aus dem Jahre 1769.
URL:https://www.windmuehle-gettorf.de/event/vortrag-die-finanzen-der-st-juergen-kirche-ein-kircheninventar-aus-dem-jahre-1769/
LOCATION:Mühle „Rosa“\, Mühlenstraße 19\, Gettorf\, 24214 Gettorf\, Deutschland
END:VEVENT
BEGIN:VEVENT
DTSTART;TZID=Europe/Berlin:20241121T080000
DTEND;TZID=Europe/Berlin:20241121T170000
DTSTAMP:20260420T012147
CREATED:20241006T040226Z
LAST-MODIFIED:20241006T040226Z
UID:3443-1732176000-1732208400@www.windmuehle-gettorf.de
SUMMARY:Heimatmuseum und Mühle (Archiv) geöffnet
DESCRIPTION:
URL:https://www.windmuehle-gettorf.de/event/heimatmuseum-und-muehle-archiv-geoeffnet-63/
LOCATION:Heimatmuseum Gettorf\, Mühlenstraße 19\, Gettorf\, Schleswig-Holstein\, 24214\, Deutschland
END:VEVENT
BEGIN:VEVENT
DTSTART;TZID=Europe/Berlin:20241128T140000
DTEND;TZID=Europe/Berlin:20241128T170000
DTSTAMP:20260420T012147
CREATED:20241006T040256Z
LAST-MODIFIED:20241006T040256Z
UID:3445-1732802400-1732813200@www.windmuehle-gettorf.de
SUMMARY:Heimatmuseum und Mühle (Archiv) geöffnet
DESCRIPTION:
URL:https://www.windmuehle-gettorf.de/event/heimatmuseum-und-muehle-archiv-geoeffnet-64/
LOCATION:Heimatmuseum Gettorf\, Mühlenstraße 19\, Gettorf\, Schleswig-Holstein\, 24214\, Deutschland
END:VEVENT
BEGIN:VEVENT
DTSTART;TZID=Europe/Berlin:20241130T160000
DTEND;TZID=Europe/Berlin:20241130T173000
DTSTAMP:20260420T012147
CREATED:20241010T165219Z
LAST-MODIFIED:20241128T181045Z
UID:3455-1732982400-1732987800@www.windmuehle-gettorf.de
SUMMARY:Geschichten und Erzählungen bei Lichterglanz zur Adventszeit
DESCRIPTION:Das Team des Gettorfer Heimatmuseums lädt ein und wird Geschichten und Erzählungen bei Lichterglanz vortragen.\nDer Eintritt ist frei um eine Spende wird gebeten.
URL:https://www.windmuehle-gettorf.de/event/geschichten-und-erzaehlungen-bei-lichterglanz-zur-adventszeit/
LOCATION:Heimatmuseum Gettorf\, Mühlenstraße 19\, Gettorf\, Schleswig-Holstein\, 24214\, Deutschland
END:VEVENT
END:VCALENDAR