BEGIN:VCALENDAR
VERSION:2.0
PRODID:-//Gettorfer Windmühlen- und Kulturverein e.V. - ECPv6.15.20//NONSGML v1.0//EN
CALSCALE:GREGORIAN
METHOD:PUBLISH
X-ORIGINAL-URL:https://www.windmuehle-gettorf.de
X-WR-CALDESC:Veranstaltungen für Gettorfer Windmühlen- und Kulturverein e.V.
REFRESH-INTERVAL;VALUE=DURATION:PT1H
X-Robots-Tag:noindex
X-PUBLISHED-TTL:PT1H
BEGIN:VTIMEZONE
TZID:Europe/Berlin
BEGIN:DAYLIGHT
TZOFFSETFROM:+0100
TZOFFSETTO:+0200
TZNAME:CEST
DTSTART:20230326T010000
END:DAYLIGHT
BEGIN:STANDARD
TZOFFSETFROM:+0200
TZOFFSETTO:+0100
TZNAME:CET
DTSTART:20231029T010000
END:STANDARD
BEGIN:DAYLIGHT
TZOFFSETFROM:+0100
TZOFFSETTO:+0200
TZNAME:CEST
DTSTART:20240331T010000
END:DAYLIGHT
BEGIN:STANDARD
TZOFFSETFROM:+0200
TZOFFSETTO:+0100
TZNAME:CET
DTSTART:20241027T010000
END:STANDARD
BEGIN:DAYLIGHT
TZOFFSETFROM:+0100
TZOFFSETTO:+0200
TZNAME:CEST
DTSTART:20250330T010000
END:DAYLIGHT
BEGIN:STANDARD
TZOFFSETFROM:+0200
TZOFFSETTO:+0100
TZNAME:CET
DTSTART:20251026T010000
END:STANDARD
END:VTIMEZONE
BEGIN:VEVENT
DTSTART;TZID=Europe/Berlin:20240711T140000
DTEND;TZID=Europe/Berlin:20240711T170000
DTSTAMP:20260424T180604
CREATED:20240712T172201Z
LAST-MODIFIED:20240712T172201Z
UID:3297-1720706400-1720717200@www.windmuehle-gettorf.de
SUMMARY:Heimatmuseum und Mühle (Archiv) geöffnet
DESCRIPTION:
URL:https://www.windmuehle-gettorf.de/event/heimatmuseum-und-muehle-archiv-geoeffnet-46/
LOCATION:Heimatmuseum Gettorf\, Mühlenstraße 19\, Gettorf\, Schleswig-Holstein\, 24214\, Deutschland
END:VEVENT
BEGIN:VEVENT
DTSTART;TZID=Europe/Berlin:20240716T153000
DTEND;TZID=Europe/Berlin:20240716T170000
DTSTAMP:20260424T180604
CREATED:20240421T074842Z
LAST-MODIFIED:20240421T074907Z
UID:3198-1721143800-1721149200@www.windmuehle-gettorf.de
SUMMARY:Plattdüütsch bi een Tass Kaffe
DESCRIPTION:Leeve Lüüd\,\nhier de neegste Tied för een Tass Kaffe.\nWi wullen dütmal oolle Biller ankieken un dorbi wedder klönen.\nAlso de Tied marken\, inschrieven un vorbikamen. \n 
URL:https://www.windmuehle-gettorf.de/event/plattdueuetsch-bi-een-tass-kaffe/
LOCATION:Heimatmuseum Gettorf\, Mühlenstraße 19\, Gettorf\, Schleswig-Holstein\, 24214\, Deutschland
END:VEVENT
BEGIN:VEVENT
DTSTART;TZID=Europe/Berlin:20240718T140000
DTEND;TZID=Europe/Berlin:20240718T170000
DTSTAMP:20260424T180604
CREATED:20240712T172328Z
LAST-MODIFIED:20240712T172328Z
UID:3301-1721311200-1721322000@www.windmuehle-gettorf.de
SUMMARY:Heimatmuseum und Mühle (Archiv) geöffnet
DESCRIPTION:
URL:https://www.windmuehle-gettorf.de/event/heimatmuseum-und-muehle-archiv-geoeffnet-47/
LOCATION:Heimatmuseum Gettorf\, Mühlenstraße 19\, Gettorf\, Schleswig-Holstein\, 24214\, Deutschland
END:VEVENT
BEGIN:VEVENT
DTSTART;TZID=Europe/Berlin:20240723T170000
DTEND;TZID=Europe/Berlin:20240723T183000
DTSTAMP:20260424T180604
CREATED:20240714T073818Z
LAST-MODIFIED:20240714T073849Z
UID:3338-1721754000-1721759400@www.windmuehle-gettorf.de
SUMMARY:Besprechung Weihnachtsmarkt 2024 - Kalender
DESCRIPTION:
URL:https://www.windmuehle-gettorf.de/event/besprechung-wiehnachtsmarkr-2024-kalender/
LOCATION:Heimatmuseum Gettorf\, Mühlenstraße 19\, Gettorf\, Schleswig-Holstein\, 24214\, Deutschland
END:VEVENT
BEGIN:VEVENT
DTSTART;TZID=Europe/Berlin:20240725T140000
DTEND;TZID=Europe/Berlin:20240725T170000
DTSTAMP:20260424T180604
CREATED:20240712T172412Z
LAST-MODIFIED:20240712T172412Z
UID:3303-1721916000-1721926800@www.windmuehle-gettorf.de
SUMMARY:Heimatmuseum und Mühle (Archiv) geöffnet
DESCRIPTION:
URL:https://www.windmuehle-gettorf.de/event/heimatmuseum-und-muehle-archiv-geoeffnet-48/
LOCATION:Heimatmuseum Gettorf\, Mühlenstraße 19\, Gettorf\, Schleswig-Holstein\, 24214\, Deutschland
END:VEVENT
END:VCALENDAR