BEGIN:VCALENDAR
VERSION:2.0
PRODID:-//Gettorfer Windmühlen- und Kulturverein e.V. - ECPv6.15.20//NONSGML v1.0//EN
CALSCALE:GREGORIAN
METHOD:PUBLISH
X-WR-CALNAME:Gettorfer Windmühlen- und Kulturverein e.V.
X-ORIGINAL-URL:https://www.windmuehle-gettorf.de
X-WR-CALDESC:Veranstaltungen für Gettorfer Windmühlen- und Kulturverein e.V.
REFRESH-INTERVAL;VALUE=DURATION:PT1H
X-Robots-Tag:noindex
X-PUBLISHED-TTL:PT1H
BEGIN:VTIMEZONE
TZID:Europe/Berlin
BEGIN:DAYLIGHT
TZOFFSETFROM:+0100
TZOFFSETTO:+0200
TZNAME:CEST
DTSTART:20230326T010000
END:DAYLIGHT
BEGIN:STANDARD
TZOFFSETFROM:+0200
TZOFFSETTO:+0100
TZNAME:CET
DTSTART:20231029T010000
END:STANDARD
BEGIN:DAYLIGHT
TZOFFSETFROM:+0100
TZOFFSETTO:+0200
TZNAME:CEST
DTSTART:20240331T010000
END:DAYLIGHT
BEGIN:STANDARD
TZOFFSETFROM:+0200
TZOFFSETTO:+0100
TZNAME:CET
DTSTART:20241027T010000
END:STANDARD
BEGIN:DAYLIGHT
TZOFFSETFROM:+0100
TZOFFSETTO:+0200
TZNAME:CEST
DTSTART:20250330T010000
END:DAYLIGHT
BEGIN:STANDARD
TZOFFSETFROM:+0200
TZOFFSETTO:+0100
TZNAME:CET
DTSTART:20251026T010000
END:STANDARD
END:VTIMEZONE
BEGIN:VEVENT
DTSTART;TZID=Europe/Berlin:20240606T140000
DTEND;TZID=Europe/Berlin:20240606T170000
DTSTAMP:20260424T200654
CREATED:20240408T065235Z
LAST-MODIFIED:20240408T065235Z
UID:3185-1717682400-1717693200@www.windmuehle-gettorf.de
SUMMARY:Heimatmuseum und Mühle geöffnet (Archiv)
DESCRIPTION:
URL:https://www.windmuehle-gettorf.de/event/heimatmuseum-und-muehle-geoeffnet-archiv-4/
LOCATION:Heimatmuseum Gettorf\, Mühlenstraße 19\, Gettorf\, Schleswig-Holstein\, 24214\, Deutschland
END:VEVENT
BEGIN:VEVENT
DTSTART;TZID=Europe/Berlin:20240607T190000
DTEND;TZID=Europe/Berlin:20240607T210000
DTSTAMP:20260424T200654
CREATED:20240129T112528Z
LAST-MODIFIED:20240130T075436Z
UID:2982-1717786800-1717794000@www.windmuehle-gettorf.de
SUMMARY:Heinrich & Micha - Lesungen
DESCRIPTION:Heinrich & Micha\n \nKuriose Kurzgeschichten und Comedy vom Feinsten! \nHeinrich\, gebürtiger Rendsburger Jahrgang 1974 und Micha\, gebürtiger Mecklenburger Jahrgang 1982\, wohnen beide in Rendsburg und haben sich nicht gesucht\, aber für eine Zusammenarbeit gefunden\, denn Beide verbindet die Leidenschaft für das Schreiben. Obwohl Ihre Texte in völlig unterschiedlichen Genres beheimatet sind\, ist es genau diese unnachahmliche Mischung\, die den Reiz einer Veranstaltung ausmacht. \nWährend Heinrich skurrile Kurzgeschichten schreibt\, die manchmal auch lustig und manchmal sogar schockierend sind\, beackert Micha den breiten humoristischen Bereich\, der in Satire\, Comedy\, witzigen Alltagssituationen und manchmal sogar Gedichten mündet.\n2022 wollten Beide\, unabhängig voneinander\, Ihre Texte vor Publikum präsentieren und haben sich so auf einem Poetry Slam kennengelernt. Schnell stand fest\, da man aus der gleichen Stadt kommt\, könnte man auch zusammen etwas auf die Beine stellen. So kam es am 02.12.22 zur ersten Duolesung der Beiden in der Rendsburger Kulturschlachterei\, welche der Startschuss einer Reihe sein sollte\, die ständig für eine volle Kulturschlachterei sorgt. Auch Soloveranstaltungen der Beiden genießen großen Anklang. Dieser Erfolg sprach sich herum\, so dass sie mittlerweile auch außerhalb von Rendsburg\ngebucht werden und sich die Anhängerschaft stetig vergrößert. \nHeute kommen Sie in den Genuß eines Abends voller skurriler Kurzgeschichten und zwerchfellzerreißender Comedy.\nViel Spaß mit Heinrich & Micha! \nDer Eintritt ist frei. Um eine Spende wird gebeten!
URL:https://www.windmuehle-gettorf.de/event/heinrich-micha-lesungen/
LOCATION:Mühle „Rosa“\, Mühlenstraße 19\, Gettorf\, 24214 Gettorf\, Deutschland
END:VEVENT
BEGIN:VEVENT
DTSTART;TZID=Europe/Berlin:20240613T140000
DTEND;TZID=Europe/Berlin:20240613T170000
DTSTAMP:20260424T200654
CREATED:20240408T065312Z
LAST-MODIFIED:20240408T065312Z
UID:3187-1718287200-1718298000@www.windmuehle-gettorf.de
SUMMARY:Heimatmuseum und Mühle geöffnet (Archiv)
DESCRIPTION:
URL:https://www.windmuehle-gettorf.de/event/heimatmuseum-und-muehle-geoeffnet-archiv-5/
LOCATION:Heimatmuseum Gettorf\, Mühlenstraße 19\, Gettorf\, Schleswig-Holstein\, 24214\, Deutschland
END:VEVENT
BEGIN:VEVENT
DTSTART;TZID=Europe/Berlin:20240620T140000
DTEND;TZID=Europe/Berlin:20240620T170000
DTSTAMP:20260424T200654
CREATED:20240408T065404Z
LAST-MODIFIED:20240408T065404Z
UID:3189-1718892000-1718902800@www.windmuehle-gettorf.de
SUMMARY:Heimatmuseum und Mühle geöffnet (Archiv)
DESCRIPTION:
URL:https://www.windmuehle-gettorf.de/event/heimatmuseum-und-muehle-geoeffnet-archiv-6/
LOCATION:Heimatmuseum Gettorf\, Mühlenstraße 19\, Gettorf\, Schleswig-Holstein\, 24214\, Deutschland
END:VEVENT
BEGIN:VEVENT
DTSTART;TZID=Europe/Berlin:20240622T100000
DTEND;TZID=Europe/Berlin:20240622T120000
DTSTAMP:20260424T200654
CREATED:20240402T144041Z
LAST-MODIFIED:20240402T144041Z
UID:3175-1719050400-1719057600@www.windmuehle-gettorf.de
SUMMARY:Historisches Wandern in Gettorf - Geführte Wanderung
DESCRIPTION:Der Gettorfer Windmühlen- und Kulturverein e.V. lädt zu einer geführten Wanderung auf den Spuren der Zeit in unserer Gemeinde ein. 20 historische Gebäude\, Gedenksteine\, Begegnungsorte und ihre jeweiligen Funktionen in der gesellschaftlichen und wirtschaftlichen Entwicklung Gettorfs werden aufgesucht. Die Teilnehmer erhalten zu den Objekten die entsprechenden Informationen vor Ort. \nDauer: ca. 2 Stunden. Die Teilnahme ist kostenlos. Anmeldungen sind erwünscht unter Kurt.Arndt@outlook.de\nTreffpunkt: 24214 Gettorf\, Mühlenstraße 21\, Mühle „Rosa“
URL:https://www.windmuehle-gettorf.de/event/historisches-wandern-in-gettorf-gefuehrte-wanderung/
LOCATION:Mühle „Rosa“\, Mühlenstraße 19\, Gettorf\, 24214 Gettorf\, Deutschland
END:VEVENT
BEGIN:VEVENT
DTSTART;TZID=Europe/Berlin:20240625T170000
DTEND;TZID=Europe/Berlin:20240625T183000
DTSTAMP:20260424T200654
CREATED:20240528T080755Z
LAST-MODIFIED:20240528T080755Z
UID:3269-1719334800-1719340200@www.windmuehle-gettorf.de
SUMMARY:Vorstandssitzung
DESCRIPTION:
URL:https://www.windmuehle-gettorf.de/event/vorstandssitzung-3/
LOCATION:Heimatmuseum Gettorf\, Mühlenstraße 19\, Gettorf\, Schleswig-Holstein\, 24214\, Deutschland
END:VEVENT
BEGIN:VEVENT
DTSTART;TZID=Europe/Berlin:20240627T140000
DTEND;TZID=Europe/Berlin:20240627T170000
DTSTAMP:20260424T200654
CREATED:20240408T065448Z
LAST-MODIFIED:20240408T065448Z
UID:3191-1719496800-1719507600@www.windmuehle-gettorf.de
SUMMARY:Heimatmuseum und Mühle geöffnet (Archiv)
DESCRIPTION:
URL:https://www.windmuehle-gettorf.de/event/heimatmuseum-und-muehle-geoeffnet-archiv-7/
LOCATION:Heimatmuseum Gettorf\, Mühlenstraße 19\, Gettorf\, Schleswig-Holstein\, 24214\, Deutschland
END:VEVENT
END:VCALENDAR