BEGIN:VCALENDAR
VERSION:2.0
PRODID:-//Gettorfer Windmühlen- und Kulturverein e.V. - ECPv6.15.20//NONSGML v1.0//EN
CALSCALE:GREGORIAN
METHOD:PUBLISH
X-WR-CALNAME:Gettorfer Windmühlen- und Kulturverein e.V.
X-ORIGINAL-URL:https://www.windmuehle-gettorf.de
X-WR-CALDESC:Veranstaltungen für Gettorfer Windmühlen- und Kulturverein e.V.
REFRESH-INTERVAL;VALUE=DURATION:PT1H
X-Robots-Tag:noindex
X-PUBLISHED-TTL:PT1H
BEGIN:VTIMEZONE
TZID:Europe/Berlin
BEGIN:DAYLIGHT
TZOFFSETFROM:+0100
TZOFFSETTO:+0200
TZNAME:CEST
DTSTART:20230326T010000
END:DAYLIGHT
BEGIN:STANDARD
TZOFFSETFROM:+0200
TZOFFSETTO:+0100
TZNAME:CET
DTSTART:20231029T010000
END:STANDARD
BEGIN:DAYLIGHT
TZOFFSETFROM:+0100
TZOFFSETTO:+0200
TZNAME:CEST
DTSTART:20240331T010000
END:DAYLIGHT
BEGIN:STANDARD
TZOFFSETFROM:+0200
TZOFFSETTO:+0100
TZNAME:CET
DTSTART:20241027T010000
END:STANDARD
BEGIN:DAYLIGHT
TZOFFSETFROM:+0100
TZOFFSETTO:+0200
TZNAME:CEST
DTSTART:20250330T010000
END:DAYLIGHT
BEGIN:STANDARD
TZOFFSETFROM:+0200
TZOFFSETTO:+0100
TZNAME:CET
DTSTART:20251026T010000
END:STANDARD
END:VTIMEZONE
BEGIN:VEVENT
DTSTART;TZID=Europe/Berlin:20240502T140000
DTEND;TZID=Europe/Berlin:20240502T170000
DTSTAMP:20260424T214917
CREATED:20240302T041918Z
LAST-MODIFIED:20240302T041918Z
UID:3079-1714658400-1714669200@www.windmuehle-gettorf.de
SUMMARY:Heimatmuseum und Mühle (Archiv) geöffnet
DESCRIPTION:
URL:https://www.windmuehle-gettorf.de/event/heimatmuseum-und-muehle-archiv-geoeffnet-45/
LOCATION:Heimatmuseum Gettorf\, Mühlenstraße 19\, Gettorf\, Schleswig-Holstein\, 24214\, Deutschland
END:VEVENT
BEGIN:VEVENT
DTSTART;VALUE=DATE:20240509
DTEND;VALUE=DATE:20240510
DTSTAMP:20260424T214917
CREATED:20240302T042017Z
LAST-MODIFIED:20240302T042017Z
UID:3081-1715212800-1715299199@www.windmuehle-gettorf.de
SUMMARY:Heimatmuseum und Mühle (Archiv) geschlossen - Himmelfahrt
DESCRIPTION:
URL:https://www.windmuehle-gettorf.de/event/heimatmuseum-und-muehle-archiv-geschlossen-himmelfahrt/
LOCATION:Heimatmuseum Gettorf\, Mühlenstraße 19\, Gettorf\, Schleswig-Holstein\, 24214\, Deutschland
END:VEVENT
BEGIN:VEVENT
DTSTART;TZID=Europe/Berlin:20240516T140000
DTEND;TZID=Europe/Berlin:20240516T170000
DTSTAMP:20260424T214917
CREATED:20240408T065013Z
LAST-MODIFIED:20240408T065013Z
UID:3179-1715868000-1715878800@www.windmuehle-gettorf.de
SUMMARY:Heimatmuseum und Mühle geöffnet (Archiv)
DESCRIPTION:
URL:https://www.windmuehle-gettorf.de/event/heimatmuseum-und-muehle-geoeffnet-archiv/
LOCATION:Heimatmuseum Gettorf\, Mühlenstraße 19\, Gettorf\, Schleswig-Holstein\, 24214\, Deutschland
END:VEVENT
BEGIN:VEVENT
DTSTART;TZID=Europe/Berlin:20240520T100000
DTEND;TZID=Europe/Berlin:20240520T160000
DTSTAMP:20260424T214917
CREATED:20240124T031153Z
LAST-MODIFIED:20240302T041508Z
UID:2976-1716199200-1716220800@www.windmuehle-gettorf.de
SUMMARY:Mühlentag 2024 - Mühle "Rosa und Heimatmuseum geöffnet"
DESCRIPTION:Auch in diesem Jahr nehmen wir am Mühlentag teil. Unsere Mühle „Rosa“ wird geöffnet und kann besichtigt werden.\nUm 11:00 Uhr und 13:30 Uhr werden Kurzvorträge über die Geschichte unserer Mühle stattfinden.\nBei guten Wetter ist ein Rundgang auf der Galerie möglich\, der einen beeindruckenden Blick in den Ort ermöglicht.\nEintritt ist frei.
URL:https://www.windmuehle-gettorf.de/event/muehlentag-2024-muehle-rosa-geoeffnet/
LOCATION:Mühle „Rosa“\, Mühlenstraße 19\, Gettorf\, 24214 Gettorf\, Deutschland
END:VEVENT
BEGIN:VEVENT
DTSTART;TZID=Europe/Berlin:20240523T090000
DTEND;TZID=Europe/Berlin:20240523T180000
DTSTAMP:20260424T214917
CREATED:20240118T182146Z
LAST-MODIFIED:20240118T182146Z
UID:2953-1716454800-1716487200@www.windmuehle-gettorf.de
SUMMARY:Vereinsausflug 2024
DESCRIPTION:Liebe Vereinsmitglieder\,\nunser diesjähriger Vereinsausflug wird uns zunächst nach Wedel führen. Dort werden die Schiffsbegrüßungsanlage „Willkomm Höft“ besichtigen. Anschließend geht es in Wedel zur Gaststätte „Wassermühle“. Dort werden wir gemeinsam zu Mittag essen. Im Anschluss an das Essen fahren wir nach Hamburg-Rissen zur Bundesanstalt für Wasserbau. Hier erhalten wir eine Führung durch die Behörde mit Vorträgen über Aufgaben und anstehende Projekte. \nEs besteht für den Ausflug nur ein begrenztes Teilnehmerkontingent von 30 Personen zur Verfügung. Näheres folgt.
URL:https://www.windmuehle-gettorf.de/event/vereinsausflug-2024/
LOCATION:Schleswig-Holstein
END:VEVENT
BEGIN:VEVENT
DTSTART;TZID=Europe/Berlin:20240523T140000
DTEND;TZID=Europe/Berlin:20240523T170000
DTSTAMP:20260424T214917
CREATED:20240408T065049Z
LAST-MODIFIED:20240408T065049Z
UID:3181-1716472800-1716483600@www.windmuehle-gettorf.de
SUMMARY:Heimatmuseum und Mühle geöffnet (Archiv)
DESCRIPTION:
URL:https://www.windmuehle-gettorf.de/event/heimatmuseum-und-muehle-geoeffnet-archiv-2/
LOCATION:Heimatmuseum Gettorf\, Mühlenstraße 19\, Gettorf\, Schleswig-Holstein\, 24214\, Deutschland
END:VEVENT
BEGIN:VEVENT
DTSTART;TZID=Europe/Berlin:20240530T140000
DTEND;TZID=Europe/Berlin:20240530T170000
DTSTAMP:20260424T214917
CREATED:20240408T065156Z
LAST-MODIFIED:20240408T065156Z
UID:3183-1717077600-1717088400@www.windmuehle-gettorf.de
SUMMARY:Heimatmuseum und Mühle geöffnet (Archiv)
DESCRIPTION:
URL:https://www.windmuehle-gettorf.de/event/heimatmuseum-und-muehle-geoeffnet-archiv-3/
LOCATION:Heimatmuseum Gettorf\, Mühlenstraße 19\, Gettorf\, Schleswig-Holstein\, 24214\, Deutschland
END:VEVENT
END:VCALENDAR