BEGIN:VCALENDAR
VERSION:2.0
PRODID:-//Gettorfer Windmühlen- und Kulturverein e.V. - ECPv6.15.20//NONSGML v1.0//EN
CALSCALE:GREGORIAN
METHOD:PUBLISH
X-ORIGINAL-URL:https://www.windmuehle-gettorf.de
X-WR-CALDESC:Veranstaltungen für Gettorfer Windmühlen- und Kulturverein e.V.
REFRESH-INTERVAL;VALUE=DURATION:PT1H
X-Robots-Tag:noindex
X-PUBLISHED-TTL:PT1H
BEGIN:VTIMEZONE
TZID:Europe/Berlin
BEGIN:DAYLIGHT
TZOFFSETFROM:+0100
TZOFFSETTO:+0200
TZNAME:CEST
DTSTART:20230326T010000
END:DAYLIGHT
BEGIN:STANDARD
TZOFFSETFROM:+0200
TZOFFSETTO:+0100
TZNAME:CET
DTSTART:20231029T010000
END:STANDARD
BEGIN:DAYLIGHT
TZOFFSETFROM:+0100
TZOFFSETTO:+0200
TZNAME:CEST
DTSTART:20240331T010000
END:DAYLIGHT
BEGIN:STANDARD
TZOFFSETFROM:+0200
TZOFFSETTO:+0100
TZNAME:CET
DTSTART:20241027T010000
END:STANDARD
BEGIN:DAYLIGHT
TZOFFSETFROM:+0100
TZOFFSETTO:+0200
TZNAME:CEST
DTSTART:20250330T010000
END:DAYLIGHT
BEGIN:STANDARD
TZOFFSETFROM:+0200
TZOFFSETTO:+0100
TZNAME:CET
DTSTART:20251026T010000
END:STANDARD
END:VTIMEZONE
BEGIN:VEVENT
DTSTART;TZID=Europe/Berlin:20240404T140000
DTEND;TZID=Europe/Berlin:20240404T170000
DTSTAMP:20260424T234604
CREATED:20240302T041629Z
LAST-MODIFIED:20240302T041629Z
UID:3071-1712239200-1712250000@www.windmuehle-gettorf.de
SUMMARY:Heimatmuseum und Mühle (Archiv) geöffnet
DESCRIPTION:
URL:https://www.windmuehle-gettorf.de/event/heimatmuseum-und-muehle-archiv-geoeffnet-41/
LOCATION:Heimatmuseum Gettorf\, Mühlenstraße 19\, Gettorf\, Schleswig-Holstein\, 24214\, Deutschland
END:VEVENT
BEGIN:VEVENT
DTSTART;TZID=Europe/Berlin:20240411T140000
DTEND;TZID=Europe/Berlin:20240411T170000
DTSTAMP:20260424T234604
CREATED:20240302T041713Z
LAST-MODIFIED:20240302T041713Z
UID:3073-1712844000-1712854800@www.windmuehle-gettorf.de
SUMMARY:Heimatmuseum und Mühle (Archiv) geöffnet
DESCRIPTION:
URL:https://www.windmuehle-gettorf.de/event/heimatmuseum-und-muehle-archiv-geoeffnet-42/
LOCATION:Heimatmuseum Gettorf\, Mühlenstraße 19\, Gettorf\, Schleswig-Holstein\, 24214\, Deutschland
END:VEVENT
BEGIN:VEVENT
DTSTART;TZID=Europe/Berlin:20240416T153000
DTEND;TZID=Europe/Berlin:20240416T170000
DTSTAMP:20260424T234604
CREATED:20240306T064424Z
LAST-MODIFIED:20240326T072746Z
UID:3118-1713281400-1713286800@www.windmuehle-gettorf.de
SUMMARY:Plattdüütsch bi een Tass Kaffe
DESCRIPTION:Wi wullen eenfach tosammen sitten und bi een Tass Kaffe klönen und snacken. Wi wullen dat dree or veer Mal in´t Johr maken. För unsere Spraak. \n \nGäste sind herzlich willkommen.  Kiek in un klön mit!!
URL:https://www.windmuehle-gettorf.de/event/palttdueuetsch-bi-een-tass-kaffe/
LOCATION:Heimatmuseum Gettorf\, Mühlenstraße 19\, Gettorf\, Schleswig-Holstein\, 24214\, Deutschland
END:VEVENT
BEGIN:VEVENT
DTSTART;TZID=Europe/Berlin:20240417T183000
DTEND;TZID=Europe/Berlin:20240417T193000
DTSTAMP:20260424T234604
CREATED:20240205T091435Z
LAST-MODIFIED:20240205T091435Z
UID:2997-1713378600-1713382200@www.windmuehle-gettorf.de
SUMMARY:Historisches Wandern in Gettorf - Rundgang mit dem Rotary Club Dänischer Wohld
DESCRIPTION:Auf Nachfrage führen wir mit den Mitgliedern des Rotary Clubs Dänischer Wohld einen ca. 1-stündigen Rundgang zu den historischen Objekten in unserer Gemeinde durch. \nStart: Parkplatz Hotel „Stadt Hamburg“.
URL:https://www.windmuehle-gettorf.de/event/historisches-wandern-in-gettorf-rundgang-mit-dem-rotary-club-daenischer-wohld/
LOCATION:Schleswig-Holstein
END:VEVENT
BEGIN:VEVENT
DTSTART;TZID=Europe/Berlin:20240418T140000
DTEND;TZID=Europe/Berlin:20240418T170000
DTSTAMP:20260424T234604
CREATED:20240302T041754Z
LAST-MODIFIED:20240302T041754Z
UID:3075-1713448800-1713459600@www.windmuehle-gettorf.de
SUMMARY:Heimatmuseum und Mühle (Archiv) geöffnet
DESCRIPTION:
URL:https://www.windmuehle-gettorf.de/event/heimatmuseum-und-muehle-archiv-geoeffnet-43/
LOCATION:Heimatmuseum Gettorf\, Mühlenstraße 19\, Gettorf\, Schleswig-Holstein\, 24214\, Deutschland
END:VEVENT
BEGIN:VEVENT
DTSTART;TZID=Europe/Berlin:20240423T170000
DTEND;TZID=Europe/Berlin:20240423T183000
DTSTAMP:20260424T234604
CREATED:20240410T172123Z
LAST-MODIFIED:20240410T172123Z
UID:3193-1713891600-1713897000@www.windmuehle-gettorf.de
SUMMARY:Sitzung des Vorstandes
DESCRIPTION:
URL:https://www.windmuehle-gettorf.de/event/sitzung-des-vorstandes-12/
LOCATION:Heimatmuseum Gettorf\, Mühlenstraße 19\, Gettorf\, Schleswig-Holstein\, 24214\, Deutschland
END:VEVENT
BEGIN:VEVENT
DTSTART;TZID=Europe/Berlin:20240425T140000
DTEND;TZID=Europe/Berlin:20240425T170000
DTSTAMP:20260424T234604
CREATED:20240302T041832Z
LAST-MODIFIED:20240302T041832Z
UID:3077-1714053600-1714064400@www.windmuehle-gettorf.de
SUMMARY:Heimatmuseum und Mühle (Archiv) geöffnet
DESCRIPTION:
URL:https://www.windmuehle-gettorf.de/event/heimatmuseum-und-muehle-archiv-geoeffnet-44/
LOCATION:Heimatmuseum Gettorf\, Mühlenstraße 19\, Gettorf\, Schleswig-Holstein\, 24214\, Deutschland
END:VEVENT
END:VCALENDAR