BEGIN:VCALENDAR
VERSION:2.0
PRODID:-//Gettorfer Windmühlen- und Kulturverein e.V. - ECPv6.15.20//NONSGML v1.0//EN
CALSCALE:GREGORIAN
METHOD:PUBLISH
X-ORIGINAL-URL:https://www.windmuehle-gettorf.de
X-WR-CALDESC:Veranstaltungen für Gettorfer Windmühlen- und Kulturverein e.V.
REFRESH-INTERVAL;VALUE=DURATION:PT1H
X-Robots-Tag:noindex
X-PUBLISHED-TTL:PT1H
BEGIN:VTIMEZONE
TZID:Europe/Berlin
BEGIN:DAYLIGHT
TZOFFSETFROM:+0100
TZOFFSETTO:+0200
TZNAME:CEST
DTSTART:20240331T010000
END:DAYLIGHT
BEGIN:STANDARD
TZOFFSETFROM:+0200
TZOFFSETTO:+0100
TZNAME:CET
DTSTART:20241027T010000
END:STANDARD
BEGIN:DAYLIGHT
TZOFFSETFROM:+0100
TZOFFSETTO:+0200
TZNAME:CEST
DTSTART:20250330T010000
END:DAYLIGHT
BEGIN:STANDARD
TZOFFSETFROM:+0200
TZOFFSETTO:+0100
TZNAME:CET
DTSTART:20251026T010000
END:STANDARD
BEGIN:DAYLIGHT
TZOFFSETFROM:+0100
TZOFFSETTO:+0200
TZNAME:CEST
DTSTART:20260329T010000
END:DAYLIGHT
BEGIN:STANDARD
TZOFFSETFROM:+0200
TZOFFSETTO:+0100
TZNAME:CET
DTSTART:20261025T010000
END:STANDARD
END:VTIMEZONE
BEGIN:VEVENT
DTSTART;TZID=Europe/Berlin:20250428T190000
DTEND;TZID=Europe/Berlin:20250428T210000
DTSTAMP:20260419T154800
CREATED:20250318T011039Z
LAST-MODIFIED:20250320T033704Z
UID:3661-1745866800-1745874000@www.windmuehle-gettorf.de
SUMMARY:Vortrag - Mein Leben in der Ziegelei
DESCRIPTION:Dipl.- Ing. Wolfgang Töpker berichtet über sein Leben in der Ziegelei. Er ist in der elterlichen Ziegelei in Salzkotten (Westfalen) groß geworden. Die Vorfahren sind Ziegler aus dem Lipperland (Gebiet Detmold) gewesen.\n\n\n\nDipl.-Ing. Wolfgang Töpker berichtet in seinem Vortrag über die Geschichte des Lehm- und Tonziegels. Warum gibt es gelbe und rote Ziegel?Weiter gibt es Informationen zur Wanderung der Lippschen Ziegler und Ziegler aus Lippe im Raum Paderborn.Auch beihaltet der Vortrag Informationen über Ziegelei-Maschinen.\n\nGezeigt werden Lichtbilder und ein Film. Der Eintritt ist frei. Um eine Spende wird gebeten.
URL:https://www.windmuehle-gettorf.de/event/vortrag-mein-leben-in-der-ziegelei/
LOCATION:Mühle „Rosa“\, Mühlenstraße 19\, Gettorf\, 24214 Gettorf\, Deutschland
END:VEVENT
END:VCALENDAR