BEGIN:VCALENDAR
VERSION:2.0
PRODID:-//Gettorfer Windmühlen- und Kulturverein e.V. - ECPv6.15.20//NONSGML v1.0//EN
CALSCALE:GREGORIAN
METHOD:PUBLISH
X-ORIGINAL-URL:https://www.windmuehle-gettorf.de
X-WR-CALDESC:Veranstaltungen für Gettorfer Windmühlen- und Kulturverein e.V.
REFRESH-INTERVAL;VALUE=DURATION:PT1H
X-Robots-Tag:noindex
X-PUBLISHED-TTL:PT1H
BEGIN:VTIMEZONE
TZID:Europe/Berlin
BEGIN:DAYLIGHT
TZOFFSETFROM:+0100
TZOFFSETTO:+0200
TZNAME:CEST
DTSTART:20240331T010000
END:DAYLIGHT
BEGIN:STANDARD
TZOFFSETFROM:+0200
TZOFFSETTO:+0100
TZNAME:CET
DTSTART:20241027T010000
END:STANDARD
BEGIN:DAYLIGHT
TZOFFSETFROM:+0100
TZOFFSETTO:+0200
TZNAME:CEST
DTSTART:20250330T010000
END:DAYLIGHT
BEGIN:STANDARD
TZOFFSETFROM:+0200
TZOFFSETTO:+0100
TZNAME:CET
DTSTART:20251026T010000
END:STANDARD
BEGIN:DAYLIGHT
TZOFFSETFROM:+0100
TZOFFSETTO:+0200
TZNAME:CEST
DTSTART:20260329T010000
END:DAYLIGHT
BEGIN:STANDARD
TZOFFSETFROM:+0200
TZOFFSETTO:+0100
TZNAME:CET
DTSTART:20261025T010000
END:STANDARD
END:VTIMEZONE
BEGIN:VEVENT
DTSTART;TZID=Europe/Berlin:20250214T180000
DTEND;TZID=Europe/Berlin:20250214T210000
DTSTAMP:20260419T204057
CREATED:20241114T182024Z
LAST-MODIFIED:20241114T182220Z
UID:3533-1739556000-1739566800@www.windmuehle-gettorf.de
SUMMARY:Gemeinsames Grünkohlessen für Vereinsmitglieder
DESCRIPTION:Liebe Vereinsmitglieder\, \nwir bieten dieses Jahr zum o. a. Termin ein gemeinsames Grünkohlessen für alle Vereinsmitglieder und deren Partnerinnen und Partner an. Für uns ist im Landhaus Hammerich in Osdorf die Diele reserviert. \nDer Preis für das Essen beträgt 21\,50 €/pro Person. Sollte jemand keinen Grünkohl essen wollen\, sind Auswahlgerichte möglich. Dann Bescheid geben. \n\nIch bitte um Nachricht bis spätestens 15.Januar 2025\, wer dabeisein möchte. Die Anmeldung kann über diese Einladung erfolgen oder auch per Mail an Kurt.Arndt@outlook.de bzw. telefonisch unter 04346-8743. \nViele Grüße\nKurt Arndt \n  \n\n\n\n\n\n 
URL:https://www.windmuehle-gettorf.de/event/gemeinsames-gruenkohlessen-fuer-vereinsmitglieder/
LOCATION:Landhaus Hammerich\, Hauptstraße\, Osdorf\, 24251
END:VEVENT
END:VCALENDAR