BEGIN:VCALENDAR
VERSION:2.0
PRODID:-//Gettorfer Windmühlen- und Kulturverein e.V. - ECPv6.15.20//NONSGML v1.0//EN
CALSCALE:GREGORIAN
METHOD:PUBLISH
X-ORIGINAL-URL:https://www.windmuehle-gettorf.de
X-WR-CALDESC:Veranstaltungen für Gettorfer Windmühlen- und Kulturverein e.V.
REFRESH-INTERVAL;VALUE=DURATION:PT1H
X-Robots-Tag:noindex
X-PUBLISHED-TTL:PT1H
BEGIN:VTIMEZONE
TZID:Europe/Berlin
BEGIN:DAYLIGHT
TZOFFSETFROM:+0100
TZOFFSETTO:+0200
TZNAME:CEST
DTSTART:20230326T010000
END:DAYLIGHT
BEGIN:STANDARD
TZOFFSETFROM:+0200
TZOFFSETTO:+0100
TZNAME:CET
DTSTART:20231029T010000
END:STANDARD
BEGIN:DAYLIGHT
TZOFFSETFROM:+0100
TZOFFSETTO:+0200
TZNAME:CEST
DTSTART:20240331T010000
END:DAYLIGHT
BEGIN:STANDARD
TZOFFSETFROM:+0200
TZOFFSETTO:+0100
TZNAME:CET
DTSTART:20241027T010000
END:STANDARD
BEGIN:DAYLIGHT
TZOFFSETFROM:+0100
TZOFFSETTO:+0200
TZNAME:CEST
DTSTART:20250330T010000
END:DAYLIGHT
BEGIN:STANDARD
TZOFFSETFROM:+0200
TZOFFSETTO:+0100
TZNAME:CET
DTSTART:20251026T010000
END:STANDARD
END:VTIMEZONE
BEGIN:VEVENT
DTSTART;TZID=Europe/Berlin:20241206T150000
DTEND;TZID=Europe/Berlin:20241206T200000
DTSTAMP:20260419T233938
CREATED:20241112T160751Z
LAST-MODIFIED:20241121T084154Z
UID:3516-1733497200-1733515200@www.windmuehle-gettorf.de
SUMMARY:Gettorfer Weihnachtsmarkt
DESCRIPTION:Wir nehmen mit einem Stand am Gettorfer Weihnachtsmarkt teil und freuen uns auf Ihren/Euren Besuch. Sie haben u. a. die Möglichkeit\, unseren neuen Alljahreskalender (10.- €) und unseren neuen\nTrinkbecher (7.- €) zu erwerben.
URL:https://www.windmuehle-gettorf.de/event/gettorfer-weihnachtsmarkt/
LOCATION:Karl-Kolbe-Platz\, Karl-Kolbe-Platz\, Gettorf\, 24214\, Germany
END:VEVENT
END:VCALENDAR