BEGIN:VCALENDAR
VERSION:2.0
PRODID:-//Gettorfer Windmühlen- und Kulturverein e.V. - ECPv6.15.20//NONSGML v1.0//EN
CALSCALE:GREGORIAN
METHOD:PUBLISH
X-WR-CALNAME:Gettorfer Windmühlen- und Kulturverein e.V.
X-ORIGINAL-URL:https://www.windmuehle-gettorf.de
X-WR-CALDESC:Veranstaltungen für Gettorfer Windmühlen- und Kulturverein e.V.
REFRESH-INTERVAL;VALUE=DURATION:PT1H
X-Robots-Tag:noindex
X-PUBLISHED-TTL:PT1H
BEGIN:VTIMEZONE
TZID:Europe/Berlin
BEGIN:DAYLIGHT
TZOFFSETFROM:+0100
TZOFFSETTO:+0200
TZNAME:CEST
DTSTART:20230326T010000
END:DAYLIGHT
BEGIN:STANDARD
TZOFFSETFROM:+0200
TZOFFSETTO:+0100
TZNAME:CET
DTSTART:20231029T010000
END:STANDARD
BEGIN:DAYLIGHT
TZOFFSETFROM:+0100
TZOFFSETTO:+0200
TZNAME:CEST
DTSTART:20240331T010000
END:DAYLIGHT
BEGIN:STANDARD
TZOFFSETFROM:+0200
TZOFFSETTO:+0100
TZNAME:CET
DTSTART:20241027T010000
END:STANDARD
BEGIN:DAYLIGHT
TZOFFSETFROM:+0100
TZOFFSETTO:+0200
TZNAME:CEST
DTSTART:20250330T010000
END:DAYLIGHT
BEGIN:STANDARD
TZOFFSETFROM:+0200
TZOFFSETTO:+0100
TZNAME:CET
DTSTART:20251026T010000
END:STANDARD
END:VTIMEZONE
BEGIN:VEVENT
DTSTART;TZID=Europe/Berlin:20240908T103000
DTEND;TZID=Europe/Berlin:20240908T150000
DTSTAMP:20260424T161028
CREATED:20240713T020547Z
LAST-MODIFIED:20240713T021017Z
UID:3318-1725791400-1725807600@www.windmuehle-gettorf.de
SUMMARY:Tag des offenen Denkmals - Mühle "Rosa" geöffnet
DESCRIPTION:Führungen nach Bedarf durch den Gettorfer Windmühlen- und Kulturverein e.V. Erläuterungen zur Geschichte der Mühle erden gegeben.\nNach der erfolgreichen Sanierung der Galerie ist diese wieder freigegeben\, so dass die Besucher/-innen von dort den Blick über Gettorf genießen können.\nAuch das Heimatmuseum nebenan öffnet seine Türen.
URL:https://www.windmuehle-gettorf.de/event/tag-des-offenen-denkmals-muehle-rosa-geoeffnet/
LOCATION:Schleswig-Holstein
END:VEVENT
END:VCALENDAR