BEGIN:VCALENDAR
VERSION:2.0
PRODID:-//Gettorfer Windmühlen- und Kulturverein e.V. - ECPv6.15.20//NONSGML v1.0//EN
CALSCALE:GREGORIAN
METHOD:PUBLISH
X-WR-CALNAME:Gettorfer Windmühlen- und Kulturverein e.V.
X-ORIGINAL-URL:https://www.windmuehle-gettorf.de
X-WR-CALDESC:Veranstaltungen für Gettorfer Windmühlen- und Kulturverein e.V.
REFRESH-INTERVAL;VALUE=DURATION:PT1H
X-Robots-Tag:noindex
X-PUBLISHED-TTL:PT1H
BEGIN:VTIMEZONE
TZID:Europe/Berlin
BEGIN:DAYLIGHT
TZOFFSETFROM:+0100
TZOFFSETTO:+0200
TZNAME:CEST
DTSTART:20230326T010000
END:DAYLIGHT
BEGIN:STANDARD
TZOFFSETFROM:+0200
TZOFFSETTO:+0100
TZNAME:CET
DTSTART:20231029T010000
END:STANDARD
BEGIN:DAYLIGHT
TZOFFSETFROM:+0100
TZOFFSETTO:+0200
TZNAME:CEST
DTSTART:20240331T010000
END:DAYLIGHT
BEGIN:STANDARD
TZOFFSETFROM:+0200
TZOFFSETTO:+0100
TZNAME:CET
DTSTART:20241027T010000
END:STANDARD
BEGIN:DAYLIGHT
TZOFFSETFROM:+0100
TZOFFSETTO:+0200
TZNAME:CEST
DTSTART:20250330T010000
END:DAYLIGHT
BEGIN:STANDARD
TZOFFSETFROM:+0200
TZOFFSETTO:+0100
TZNAME:CET
DTSTART:20251026T010000
END:STANDARD
END:VTIMEZONE
BEGIN:VEVENT
DTSTART;TZID=Europe/Berlin:20240417T183000
DTEND;TZID=Europe/Berlin:20240417T193000
DTSTAMP:20260425T012949
CREATED:20240205T091435Z
LAST-MODIFIED:20240205T091435Z
UID:2997-1713378600-1713382200@www.windmuehle-gettorf.de
SUMMARY:Historisches Wandern in Gettorf - Rundgang mit dem Rotary Club Dänischer Wohld
DESCRIPTION:Auf Nachfrage führen wir mit den Mitgliedern des Rotary Clubs Dänischer Wohld einen ca. 1-stündigen Rundgang zu den historischen Objekten in unserer Gemeinde durch. \nStart: Parkplatz Hotel „Stadt Hamburg“.
URL:https://www.windmuehle-gettorf.de/event/historisches-wandern-in-gettorf-rundgang-mit-dem-rotary-club-daenischer-wohld/
LOCATION:Schleswig-Holstein
END:VEVENT
END:VCALENDAR