BEGIN:VCALENDAR
VERSION:2.0
PRODID:-//Gettorfer Windmühlen- und Kulturverein e.V. - ECPv6.15.20//NONSGML v1.0//EN
CALSCALE:GREGORIAN
METHOD:PUBLISH
X-WR-CALNAME:Gettorfer Windmühlen- und Kulturverein e.V.
X-ORIGINAL-URL:https://www.windmuehle-gettorf.de
X-WR-CALDESC:Veranstaltungen für Gettorfer Windmühlen- und Kulturverein e.V.
REFRESH-INTERVAL;VALUE=DURATION:PT1H
X-Robots-Tag:noindex
X-PUBLISHED-TTL:PT1H
BEGIN:VTIMEZONE
TZID:Europe/Berlin
BEGIN:DAYLIGHT
TZOFFSETFROM:+0100
TZOFFSETTO:+0200
TZNAME:CEST
DTSTART:20230326T010000
END:DAYLIGHT
BEGIN:STANDARD
TZOFFSETFROM:+0200
TZOFFSETTO:+0100
TZNAME:CET
DTSTART:20231029T010000
END:STANDARD
BEGIN:DAYLIGHT
TZOFFSETFROM:+0100
TZOFFSETTO:+0200
TZNAME:CEST
DTSTART:20240331T010000
END:DAYLIGHT
BEGIN:STANDARD
TZOFFSETFROM:+0200
TZOFFSETTO:+0100
TZNAME:CET
DTSTART:20241027T010000
END:STANDARD
BEGIN:DAYLIGHT
TZOFFSETFROM:+0100
TZOFFSETTO:+0200
TZNAME:CEST
DTSTART:20250330T010000
END:DAYLIGHT
BEGIN:STANDARD
TZOFFSETFROM:+0200
TZOFFSETTO:+0100
TZNAME:CET
DTSTART:20251026T010000
END:STANDARD
END:VTIMEZONE
BEGIN:VEVENT
DTSTART;TZID=Europe/Berlin:20240302T103000
DTEND;TZID=Europe/Berlin:20240302T123000
DTSTAMP:20260426T005621
CREATED:20240214T165133Z
LAST-MODIFIED:20240214T165212Z
UID:3018-1709375400-1709382600@www.windmuehle-gettorf.de
SUMMARY:Eröffnung Sonderausstellung "Schriften\, Schreibmaschinen\, schräge Typen“
DESCRIPTION:Im Gettorfer Heimatmuseum wird am 02. März die Sonderausstellung „Schriften\, Schreibmaschinen\, schräge Typen“ eröffnet. Hier erfahren Sie mehr über die Entstehung der Schrift und dürfen selbst tätig werden\, diese auf unterschiedliche Art selbst auszuprobieren.  Z.B. auf einer alten Schreibmaschine schreiben\, mit Federhalter und Tinte Buchstaben üben\, Keilschrift mit Hölzchen erarbeiten. Verschiedene alte Schreibmaschinen sind zu bestaunen. Ein Künstler stellte mit der Schreibmaschine „gemalte“ Bilder zur Verfügung. Sie werden u.a. die Frauenkirche in Dresden wiedererkennen. Eine Bildergalerie zeigt Fotos von Schriftstellern und ihren Schreibmaschinen. Im Original sind ferner Zeitungen von 1908 und 1930\, die in der Gettorfer Druckerei Timm gefertigt wurden\, zu bestaunen. Firma Timm hat außerdem einige Exponate aus der Druckerei zur Verfügung gestellt. Schauen Sie einfach vorbei und lassen sich überraschen. Die Ausstellung ist sowohl für Erwachsene als auch für Kinder interessant. \n   \nUnser Heimatmuseum und das Archiv in der Mühle sind Donnerstags von 14.00-17.00 Uhr geöffnet. Gruppen können sich unter 04346/6164 oder 04346/9392931 melden. Wir geben gerne Auskunft.\nKommen Sie einfach einmal vorbei\, es gibt auch im Museum etliches zu entdecken.
URL:https://www.windmuehle-gettorf.de/event/eroeffnung-sonderausstellung-schriften-schreibmaschinen-schraege-typen/
LOCATION:Heimatmuseum Gettorf\, Mühlenstraße 19\, Gettorf\, Schleswig-Holstein\, 24214\, Deutschland
END:VEVENT
END:VCALENDAR